BEGIN:VCALENDAR
VERSION:2.0
PRODID:icalendar-ruby
CALSCALE:GREGORIAN
BEGIN:VEVENT
DTSTAMP:20210119T031607Z
UID:65ea4415-6d17-41b3-9c5c-6788295cc41a
DTSTART;VALUE=DATE:20190905
DESCRIPTION:Property ID# 439071\, Locatoin: Office of Stirling Real Estate 
 Ltd\, 44-50 Queens Drive\, Lower Hutt\, Time: 1:00PM
SUMMARY:Auction for 
END:VEVENT
END:VCALENDAR
