BEGIN:VCALENDAR
VERSION:2.0
PRODID:icalendar-ruby
CALSCALE:GREGORIAN
BEGIN:VEVENT
DTSTAMP:20210119T031555Z
UID:e0e5630f-c2a5-4787-9bf3-5acc33789c5b
DTSTART;VALUE=DATE:20190828
DESCRIPTION:Property ID# 459074\, Locatoin: Harcourts Office Upper Hutt\, T
 ime: 3:00PM
SUMMARY:Auction for 
END:VEVENT
END:VCALENDAR
