BEGIN:VCALENDAR
VERSION:2.0
PRODID:icalendar-ruby
CALSCALE:GREGORIAN
BEGIN:VEVENT
DTSTAMP:20210119T031554Z
UID:69b4dc80-f8d4-4073-8300-1a807f42c566
DTSTART;VALUE=DATE:20190911
DESCRIPTION:Property ID# 459999\, Locatoin: Harcourts Office Upper Hutt\, T
 ime: 3:00PM
SUMMARY:Auction for 
END:VEVENT
END:VCALENDAR
