BEGIN:VCALENDAR
VERSION:2.0
PRODID:icalendar-ruby
CALSCALE:GREGORIAN
BEGIN:VEVENT
DTSTAMP:20210119T031552Z
UID:6cffa18b-90de-49ab-b327-008f56cdf88d
DTSTART;VALUE=DATE:20191016
DESCRIPTION:Property ID# 462463\, Locatoin: In Rooms - Harcourts Office - U
 pper Hutt \, Time: 3:00PM
SUMMARY:Auction for 
END:VEVENT
END:VCALENDAR
