BEGIN:VCALENDAR
VERSION:2.0
PRODID:icalendar-ruby
CALSCALE:GREGORIAN
BEGIN:VEVENT
DTSTAMP:20210119T031610Z
UID:be6ea59f-5d98-4dac-91f7-eab1093fbf6f
DTSTART;VALUE=DATE:20191105
DESCRIPTION:Property ID# 464224\, Time: 4:30PM
SUMMARY:Auction for 
END:VEVENT
END:VCALENDAR
