BEGIN:VCALENDAR
VERSION:2.0
PRODID:icalendar-ruby
CALSCALE:GREGORIAN
BEGIN:VEVENT
DTSTAMP:20210119T031548Z
UID:48e71e6c-418c-497b-af6f-d2e9e5ce285b
DTSTART;VALUE=DATE:20200205
DESCRIPTION:Property ID# 470313\, Locatoin: Harcourts Lower Hutt Office\, 5
 16 High Street\, Lower Hutt (No Prior Sale)\, Time: 1:00PM
SUMMARY:Auction for 
END:VEVENT
END:VCALENDAR
