BEGIN:VCALENDAR
VERSION:2.0
PRODID:icalendar-ruby
CALSCALE:GREGORIAN
BEGIN:VEVENT
DTSTAMP:20210119T031605Z
UID:bb60cac0-4f8b-4362-9a91-dbce07b8715a
DTSTART;VALUE=DATE:20200212
DESCRIPTION:Property ID# 470442\, Locatoin: 100 Gibbons Street\, Ebdentown\
 , Upper Hutt\, Time: 12:00PM
SUMMARY:Auction for 
END:VEVENT
END:VCALENDAR
