BEGIN:VCALENDAR
VERSION:2.0
PRODID:icalendar-ruby
CALSCALE:GREGORIAN
BEGIN:VEVENT
DTSTAMP:20210119T031506Z
UID:54e9cf41-9490-4de0-82bc-6a494cd2cf3d
DTSTART;VALUE=DATE:20200317
DESCRIPTION:Property ID# 474894\, Locatoin: 9-11 Kings Crescent Lower Hutt\
 , Time: 12:00PM
SUMMARY:Auction for 
END:VEVENT
END:VCALENDAR
