BEGIN:VCALENDAR
VERSION:2.0
PRODID:icalendar-ruby
CALSCALE:GREGORIAN
BEGIN:VEVENT
DTSTAMP:20210119T031504Z
UID:869352d9-68a1-4696-b62d-9466aa102078
DTSTART;VALUE=DATE:20200325
DESCRIPTION:Property ID# 475412\, Locatoin: 9-11 Kings Crescent Lower Hutt\
 , Time: 2:00PM
SUMMARY:Auction for 
END:VEVENT
END:VCALENDAR
