BEGIN:VCALENDAR
VERSION:2.0
PRODID:icalendar-ruby
CALSCALE:GREGORIAN
BEGIN:VEVENT
DTSTAMP:20210119T031604Z
UID:51c8f3cf-0dc8-4354-a88a-762393ae06ef
DTSTART;VALUE=DATE:20200611
DESCRIPTION:Property ID# 480710\, Locatoin: Stirling Real Estate\, 44-58 Qu
 eens Drive\, Lower Hutt\, Time: 1:00PM
SUMMARY:Auction for 
END:VEVENT
END:VCALENDAR
