BEGIN:VCALENDAR
VERSION:2.0
PRODID:icalendar-ruby
CALSCALE:GREGORIAN
BEGIN:VEVENT
DTSTAMP:20210119T031547Z
UID:34713a3f-3445-4698-84e4-ecb404d88810
DTSTART;VALUE=DATE:20200630
DESCRIPTION:Property ID# 482619\, Locatoin: Harcourts Lower Hutt Office\, 5
 16 High Street\, Lower Hutt (unless sold prior)\, Time: 12:00PM
SUMMARY:Auction for 
END:VEVENT
END:VCALENDAR
