BEGIN:VCALENDAR
VERSION:2.0
PRODID:icalendar-ruby
CALSCALE:GREGORIAN
BEGIN:VEVENT
DTSTAMP:20210119T031602Z
UID:d4f611dc-bd44-4a28-8a28-ed5b9cfee448
DTSTART;VALUE=DATE:20200813
DESCRIPTION:Property ID# 485742\, Locatoin: Stirling Real Estate Ltd\, 44-5
 8 Queens Drive\, Lower Hutt\, Time: 1:00PM
SUMMARY:Auction for 
END:VEVENT
END:VCALENDAR
