BEGIN:VCALENDAR
VERSION:2.0
PRODID:icalendar-ruby
CALSCALE:GREGORIAN
BEGIN:VEVENT
DTSTAMP:20210119T031545Z
UID:a25979de-9555-414d-adf1-502ab02d5219
DTSTART;VALUE=DATE:20200827
DESCRIPTION:Property ID# 486958\, Time: 12:30PM
SUMMARY:Auction for 
END:VEVENT
END:VCALENDAR
