BEGIN:VCALENDAR
VERSION:2.0
PRODID:icalendar-ruby
CALSCALE:GREGORIAN
BEGIN:VEVENT
DTSTAMP:20210119T031502Z
UID:a64df767-b7a2-4185-a1cd-f91b9f207f20
DTSTART;VALUE=DATE:20200826
DESCRIPTION:Property ID# 487589\, Locatoin: 9-11 Kings Crescent Lower Hutt\
 , Time: 1:00PM
SUMMARY:Auction for 
END:VEVENT
END:VCALENDAR
