BEGIN:VCALENDAR
VERSION:2.0
PRODID:icalendar-ruby
CALSCALE:GREGORIAN
BEGIN:VEVENT
DTSTAMP:20210119T031501Z
UID:ff8abd0c-88bd-45f6-b743-7a7f12a094dc
DTSTART;VALUE=DATE:20200909
DESCRIPTION:Property ID# 488585\, Locatoin: 9-11 Kings Crescent Lower Hutt\
 , Time: 1:00PM
SUMMARY:Auction for 
END:VEVENT
END:VCALENDAR
