BEGIN:VCALENDAR
VERSION:2.0
PRODID:icalendar-ruby
CALSCALE:GREGORIAN
BEGIN:VEVENT
DTSTAMP:20210119T031537Z
UID:d765d177-e8eb-4b3f-b7f5-614d915702d6
DTSTART;VALUE=DATE:20201001
DESCRIPTION:Property ID# 488928\, Time: 12:30PM
SUMMARY:Auction for 
END:VEVENT
END:VCALENDAR
