BEGIN:VCALENDAR
VERSION:2.0
PRODID:icalendar-ruby
CALSCALE:GREGORIAN
BEGIN:VEVENT
DTSTAMP:20210119T031459Z
UID:67b0b4ca-4f54-43f1-8a1a-55838263e8e6
DTSTART;VALUE=DATE:20200916
DESCRIPTION:Property ID# 489008\, Locatoin: 9-11 Kings Crescent Lower Hutt\
 , Time: 12:00PM
SUMMARY:Auction for 
END:VEVENT
END:VCALENDAR
