BEGIN:VCALENDAR
VERSION:2.0
PRODID:icalendar-ruby
CALSCALE:GREGORIAN
BEGIN:VEVENT
DTSTAMP:20210119T031443Z
UID:16ad6018-1b60-46dd-b494-ab06b83a8317
DTSTART;VALUE=DATE:20201008
DESCRIPTION:Property ID# 490098\, Time: 12:30PM
SUMMARY:Auction for 
END:VEVENT
END:VCALENDAR
