BEGIN:VCALENDAR
VERSION:2.0
PRODID:icalendar-ruby
CALSCALE:GREGORIAN
BEGIN:VEVENT
DTSTAMP:20210119T031458Z
UID:41322bfc-ad2d-4e82-8f6b-a28126cb9a72
DTSTART;VALUE=DATE:20200930
DESCRIPTION:Property ID# 490313\, Locatoin: 9-11 Kings Crescent Lower Hutt\
 , Time: 1:00PM
SUMMARY:Auction for 
END:VEVENT
END:VCALENDAR
