BEGIN:VCALENDAR
VERSION:2.0
PRODID:icalendar-ruby
CALSCALE:GREGORIAN
BEGIN:VEVENT
DTSTAMP:20210119T031456Z
UID:80be526a-11cb-4fbf-a568-6bbd0d3cae40
DTSTART;VALUE=DATE:20201007
DESCRIPTION:Property ID# 490314\, Locatoin: 9-11 Kings Crescent Lower Hutt\
 , Time: 1:00PM
SUMMARY:Auction for 
END:VEVENT
END:VCALENDAR
