BEGIN:VCALENDAR
VERSION:2.0
PRODID:icalendar-ruby
CALSCALE:GREGORIAN
BEGIN:VEVENT
DTSTAMP:20210119T031431Z
UID:3b579b71-3ee0-4c33-921a-a62729e9c75d
DTSTART;VALUE=DATE:20201015
DESCRIPTION:Property ID# 490678\, Time: 1:00PM
SUMMARY:Auction for 
END:VEVENT
END:VCALENDAR
