BEGIN:VCALENDAR
VERSION:2.0
PRODID:icalendar-ruby
CALSCALE:GREGORIAN
BEGIN:VEVENT
DTSTAMP:20210119T031451Z
UID:695d4753-b004-4a78-9620-2f6830eabd87
DTSTART;VALUE=DATE:20201029
DESCRIPTION:Property ID# 492114\, Time: 12:00PM
SUMMARY:Auction for 
END:VEVENT
END:VCALENDAR
