BEGIN:VCALENDAR
VERSION:2.0
PRODID:icalendar-ruby
CALSCALE:GREGORIAN
BEGIN:VEVENT
DTSTAMP:20210119T031449Z
UID:43f64f49-8e4d-40c5-9c6c-0b6238280ce4
DTSTART;VALUE=DATE:20201105
DESCRIPTION:Property ID# 493023\, Time: 1:30PM
SUMMARY:Auction for 
END:VEVENT
END:VCALENDAR
