BEGIN:VCALENDAR
VERSION:2.0
PRODID:icalendar-ruby
CALSCALE:GREGORIAN
BEGIN:VEVENT
DTSTAMP:20210119T031528Z
UID:e37b6945-2ab3-453a-909b-9e17da726ad8
DTSTART;VALUE=DATE:20201112
DESCRIPTION:Property ID# 493193\, Time: 12:30PM
SUMMARY:Auction for 
END:VEVENT
END:VCALENDAR
