BEGIN:VCALENDAR
VERSION:2.0
PRODID:icalendar-ruby
CALSCALE:GREGORIAN
BEGIN:VEVENT
DTSTAMP:20210119T031542Z
UID:fb884022-aca0-4897-b695-784d814d4cd3
DTSTART;VALUE=DATE:20201022
DESCRIPTION:Property ID# 493196\, Time: 12:30PM
SUMMARY:Auction for 
END:VEVENT
END:VCALENDAR
