BEGIN:VCALENDAR
VERSION:2.0
PRODID:icalendar-ruby
CALSCALE:GREGORIAN
BEGIN:VEVENT
DTSTAMP:20210119T031438Z
UID:b334aea0-ae35-4985-bad1-21d7518d359e
DTSTART;VALUE=DATE:20201107
DESCRIPTION:Property ID# 493665\, Time: 11:00AM
SUMMARY:Auction for 
END:VEVENT
END:VCALENDAR
