BEGIN:VCALENDAR
VERSION:2.0
PRODID:icalendar-ruby
CALSCALE:GREGORIAN
BEGIN:VEVENT
DTSTAMP:20210119T031527Z
UID:981dc798-af4e-4c13-a76c-b1009ea65bd9
DTSTART;VALUE=DATE:20201126
DESCRIPTION:Property ID# 494323\, Time: 12:30PM
SUMMARY:Auction for 
END:VEVENT
END:VCALENDAR
