BEGIN:VCALENDAR
VERSION:2.0
PRODID:icalendar-ruby
CALSCALE:GREGORIAN
BEGIN:VEVENT
DTSTAMP:20210119T031601Z
UID:e443d4fc-8836-4703-af33-a05e82894490
DTSTART;VALUE=DATE:20201119
DESCRIPTION:Property ID# 494624\, Time: 12:30PM
SUMMARY:Auction for 
END:VEVENT
END:VCALENDAR
