BEGIN:VCALENDAR
VERSION:2.0
PRODID:icalendar-ruby
CALSCALE:GREGORIAN
BEGIN:VEVENT
DTSTAMP:20210119T031559Z
UID:73184675-ef5c-4b00-8219-140a50cb89ad
DTSTART;VALUE=DATE:20201208
DESCRIPTION:Property ID# 494902\, Time: 1:00PM
SUMMARY:Auction for 
END:VEVENT
END:VCALENDAR
