BEGIN:VCALENDAR
VERSION:2.0
PRODID:icalendar-ruby
CALSCALE:GREGORIAN
BEGIN:VEVENT
DTSTAMP:20210119T031524Z
UID:e44793fb-f4d6-4580-b565-8debbcfdb003
DTSTART;VALUE=DATE:20201210
DESCRIPTION:Property ID# 495809\, Time: 12:30PM
SUMMARY:Auction for 
END:VEVENT
END:VCALENDAR
