BEGIN:VCALENDAR
VERSION:2.0
PRODID:icalendar-ruby
CALSCALE:GREGORIAN
BEGIN:VEVENT
DTSTAMP:20210119T031522Z
UID:c51bf61d-3ea1-4160-ba3c-18baf0883684
DTSTART;VALUE=DATE:20201214
DESCRIPTION:Property ID# 496427\, Time: 12:30PM
SUMMARY:Auction for 
END:VEVENT
END:VCALENDAR
