BEGIN:VCALENDAR
VERSION:2.0
PRODID:icalendar-ruby
CALSCALE:GREGORIAN
BEGIN:VEVENT
DTSTAMP:20210119T031434Z
UID:f11fd8d5-5df9-4d0e-a121-a4d6819f4ba3
DTSTART;VALUE=DATE:20201212
DESCRIPTION:Property ID# 497234\, Time: 11:00AM
SUMMARY:Auction for 
END:VEVENT
END:VCALENDAR
