BEGIN:VCALENDAR
VERSION:2.0
PRODID:icalendar-ruby
CALSCALE:GREGORIAN
BEGIN:VEVENT
DTSTAMP:20210119T031521Z
UID:29940d9b-de4a-4682-968f-187b08c60aa0
DTSTART;VALUE=DATE:20201205
DESCRIPTION:Property ID# 497240\, Time: 2:00PM
SUMMARY:Auction for 
END:VEVENT
END:VCALENDAR
