BEGIN:VCALENDAR
VERSION:2.0
PRODID:icalendar-ruby
CALSCALE:GREGORIAN
BEGIN:VEVENT
DTSTAMP:20210119T031448Z
UID:83e2e97d-5127-4d34-bc1f-ff1404329714
DTSTART;VALUE=DATE:20201217
DESCRIPTION:Property ID# 498059\, Time: 1:00PM
SUMMARY:Auction for 
END:VEVENT
END:VCALENDAR
