BEGIN:VCALENDAR
VERSION:2.0
PRODID:icalendar-ruby
CALSCALE:GREGORIAN
BEGIN:VEVENT
DTSTAMP:20210119T031455Z
UID:81b6ce95-ac04-42a7-a195-6a89e7963f8f
DTSTART;VALUE=DATE:20210120
DESCRIPTION:Property ID# 499275\, Locatoin: 9-11 Kings Crescent Lower Hutt\
 , Time: 1:00PM
SUMMARY:Auction for 
END:VEVENT
END:VCALENDAR
