BEGIN:VCALENDAR
VERSION:2.0
PRODID:icalendar-ruby
CALSCALE:GREGORIAN
BEGIN:VEVENT
DTSTAMP:20210119T031513Z
UID:1d46f6f3-154a-45f4-b4b2-bd3cb6345ca0
DTSTART;TZID=Pacific/Auckland:20210117T133000
DTEND;TZID=Pacific/Auckland:20210117T140000
DESCRIPTION:Property ID# 499712
SUMMARY:Openhome for 65 Chapman Street
END:VEVENT
END:VCALENDAR
