BEGIN:VCALENDAR
VERSION:2.0
PRODID:icalendar-ruby
CALSCALE:GREGORIAN
BEGIN:VEVENT
DTSTAMP:20210119T031446Z
UID:32ac4ee4-fa20-4ea6-8b5f-5eaa0effc52e
DTSTART;TZID=Pacific/Auckland:20210124T120000
DTEND;TZID=Pacific/Auckland:20210124T124500
DESCRIPTION:Property ID# 499956
SUMMARY:Openhome for A/24 Mount Marua Way
END:VEVENT
END:VCALENDAR
