BEGIN:VCALENDAR
VERSION:2.0
PRODID:icalendar-ruby
CALSCALE:GREGORIAN
BEGIN:VEVENT
DTSTAMP:20260420T110320Z
UID:8c374677-67fa-4fcc-a78d-1b244e1807fa
DTSTART;VALUE=DATE:20200211
DESCRIPTION:Property ID# 471289\, Locatoin: Ray White\, 9-11 Kings Crescent
 \, Lower Hutt\, Time: 2:00PM
SUMMARY:Auction for 
END:VEVENT
END:VCALENDAR
