BEGIN:VCALENDAR
VERSION:2.0
PRODID:icalendar-ruby
CALSCALE:GREGORIAN
BEGIN:VEVENT
DTSTAMP:20260422T173507Z
UID:0eb0dcc6-2c97-4d1f-8904-268836522ead
DTSTART;VALUE=DATE:20210224
DESCRIPTION:Property ID# 501835\, Locatoin: Harcourts\, 516 High St\, Lower
  Hutt\, Time: 12:00PM
SUMMARY:Auction for 
END:VEVENT
END:VCALENDAR
