BEGIN:VCALENDAR
VERSION:2.0
PRODID:icalendar-ruby
CALSCALE:GREGORIAN
BEGIN:VEVENT
DTSTAMP:20260422T173913Z
UID:904ca244-60a0-4fb0-91ca-5d1f05246752
DTSTART;VALUE=DATE:20210408
DESCRIPTION:Property ID# 505119\, Locatoin: Harcourts\, 516 High St\, Lower
  Hutt\, Time: 12:00PM
SUMMARY:Auction for 
END:VEVENT
END:VCALENDAR
