BEGIN:VCALENDAR
VERSION:2.0
PRODID:icalendar-ruby
CALSCALE:GREGORIAN
BEGIN:VEVENT
DTSTAMP:20260424T105150Z
UID:22ae853e-9681-4734-a7b8-c528dfb0d0d2
DTSTART;VALUE=DATE:20210414
DESCRIPTION:Property ID# 506353\, Locatoin: Harcourts\, 516 High St\, Lower
  Hutt\, Time: 12:00PM
SUMMARY:Auction for 
END:VEVENT
END:VCALENDAR
