BEGIN:VCALENDAR
VERSION:2.0
PRODID:icalendar-ruby
CALSCALE:GREGORIAN
BEGIN:VEVENT
DTSTAMP:20260422T094302Z
UID:d4a254b6-b93b-4559-adab-e62dc3a33c96
DTSTART;VALUE=DATE:20210618
DESCRIPTION:Property ID# 511808\, Time: 12:00PM
SUMMARY:Auction for 
END:VEVENT
END:VCALENDAR
