BEGIN:VCALENDAR
VERSION:2.0
PRODID:icalendar-ruby
CALSCALE:GREGORIAN
BEGIN:VEVENT
DTSTAMP:20260422T174957Z
UID:299ea0f5-992c-4ec0-91c9-cb37783761aa
DTSTART;VALUE=DATE:20230727
DESCRIPTION:Property ID# 559361\, Time: 3:00PM
SUMMARY:Auction for 
END:VEVENT
END:VCALENDAR
