BEGIN:VCALENDAR
VERSION:2.0
PRODID:icalendar-ruby
CALSCALE:GREGORIAN
BEGIN:VEVENT
DTSTAMP:20260423T194131Z
UID:a1af1feb-6806-4520-8d24-de71a93db99d
DTSTART;VALUE=DATE:20250327
DESCRIPTION:Property ID# 589117\, Locatoin: Ray White Johnsonville (not sel
 ling prior)\, Time: 1:00PM
SUMMARY:Auction for 
END:VEVENT
END:VCALENDAR
