BEGIN:VCALENDAR
VERSION:2.0
PRODID:icalendar-ruby
CALSCALE:GREGORIAN
BEGIN:VEVENT
DTSTAMP:20260421T142408Z
UID:70cca8f8-9ca7-4430-ac30-34a274e8e0a9
DTSTART;VALUE=DATE:20250404
DESCRIPTION:Property ID# 589398\, Locatoin: Harcourts Wellington City Offic
 e at 57 Vivian Street\, Te Aro\, Wellington 6011\, Time: 12:00PM
SUMMARY:Auction for 
END:VEVENT
END:VCALENDAR
