BEGIN:VCALENDAR
VERSION:2.0
PRODID:icalendar-ruby
CALSCALE:GREGORIAN
BEGIN:VEVENT
DTSTAMP:20260420T111614Z
UID:50f55d81-41d6-4bd9-bfcb-d9c32c800c82
DTSTART;TZID=Pacific/Auckland:20260419T130000
DTEND;TZID=Pacific/Auckland:20260419T140000
DESCRIPTION:Property ID# 603549
SUMMARY:Openhome for 7D Walters Street
END:VEVENT
END:VCALENDAR
